BEGIN:VCALENDAR
VERSION:2.0
PRODID:-//4RFM Community Radio Station - ECPv6.15.20//NONSGML v1.0//EN
CALSCALE:GREGORIAN
METHOD:PUBLISH
X-ORIGINAL-URL:https://4rfm.com.au
X-WR-CALDESC:Events for 4RFM Community Radio Station
REFRESH-INTERVAL;VALUE=DURATION:PT1H
X-Robots-Tag:noindex
X-PUBLISHED-TTL:PT1H
BEGIN:VTIMEZONE
TZID:Australia/Brisbane
BEGIN:STANDARD
TZOFFSETFROM:+1000
TZOFFSETTO:+1000
TZNAME:AEST
DTSTART:20230101T000000
END:STANDARD
END:VTIMEZONE
BEGIN:VEVENT
DTSTART;TZID=Australia/Brisbane:20240315T170000
DTEND;TZID=Australia/Brisbane:20240315T210000
DTSTAMP:20260426T014443
CREATED:20240312T235319Z
LAST-MODIFIED:20240312T235319Z
UID:8519-1710522000-1710536400@4rfm.com.au
SUMMARY:Gymnastics Country Easter Fete
DESCRIPTION:
URL:https://4rfm.com.au/event/gymnastics-country-easter-fete/
LOCATION:Moranbah Gymnastics\, Australia
END:VEVENT
END:VCALENDAR