BEGIN:VCALENDAR
VERSION:2.0
PRODID:-//4RFM Community Radio Station - ECPv6.15.20//NONSGML v1.0//EN
CALSCALE:GREGORIAN
METHOD:PUBLISH
X-WR-CALNAME:4RFM Community Radio Station
X-ORIGINAL-URL:https://4rfm.com.au
X-WR-CALDESC:Events for 4RFM Community Radio Station
REFRESH-INTERVAL;VALUE=DURATION:PT1H
X-Robots-Tag:noindex
X-PUBLISHED-TTL:PT1H
BEGIN:VTIMEZONE
TZID:Australia/Brisbane
BEGIN:STANDARD
TZOFFSETFROM:+1000
TZOFFSETTO:+1000
TZNAME:AEST
DTSTART:20230101T000000
END:STANDARD
END:VTIMEZONE
BEGIN:VEVENT
DTSTART;TZID=Australia/Brisbane:20240317T090000
DTEND;TZID=Australia/Brisbane:20240317T090000
DTSTAMP:20260426T013220
CREATED:20240313T003429Z
LAST-MODIFIED:20240313T003514Z
UID:8554-1710666000-1710666000@4rfm.com.au
SUMMARY:Black Duck Rae Day
DESCRIPTION:
URL:https://4rfm.com.au/event/black-duck-rae-day/
LOCATION:Moranbah Bowls Club\, Belyando Ave\, Moranbah\, QLD\, 4744\, Australia
END:VEVENT
END:VCALENDAR