BEGIN:VCALENDAR
VERSION:2.0
PRODID:-//4RFM Community Radio Station - ECPv6.15.20//NONSGML v1.0//EN
CALSCALE:GREGORIAN
METHOD:PUBLISH
X-ORIGINAL-URL:https://4rfm.com.au
X-WR-CALDESC:Events for 4RFM Community Radio Station
REFRESH-INTERVAL;VALUE=DURATION:PT1H
X-Robots-Tag:noindex
X-PUBLISHED-TTL:PT1H
BEGIN:VTIMEZONE
TZID:Australia/Brisbane
BEGIN:STANDARD
TZOFFSETFROM:+1000
TZOFFSETTO:+1000
TZNAME:AEST
DTSTART:20230101T000000
END:STANDARD
END:VTIMEZONE
BEGIN:VEVENT
DTSTART;TZID=Australia/Brisbane:20240323T110000
DTEND;TZID=Australia/Brisbane:20240323T110000
DTSTAMP:20260426T012621
CREATED:20240313T000752Z
LAST-MODIFIED:20240313T004349Z
UID:8535-1711191600-1711191600@4rfm.com.au
SUMMARY:Moranbah Races - Family Fun Day
DESCRIPTION:moran
URL:https://4rfm.com.au/event/moranbah-races-family-fun-day/
LOCATION:Treasure Park\, Moranbah\, 4744
END:VEVENT
END:VCALENDAR