BEGIN:VCALENDAR
VERSION:2.0
PRODID:-//4RFM Community Radio Station - ECPv6.15.20//NONSGML v1.0//EN
CALSCALE:GREGORIAN
METHOD:PUBLISH
X-WR-CALNAME:4RFM Community Radio Station
X-ORIGINAL-URL:https://4rfm.com.au
X-WR-CALDESC:Events for 4RFM Community Radio Station
REFRESH-INTERVAL;VALUE=DURATION:PT1H
X-Robots-Tag:noindex
X-PUBLISHED-TTL:PT1H
BEGIN:VTIMEZONE
TZID:Australia/Brisbane
BEGIN:STANDARD
TZOFFSETFROM:+1000
TZOFFSETTO:+1000
TZNAME:AEST
DTSTART:20230101T000000
END:STANDARD
END:VTIMEZONE
BEGIN:VEVENT
DTSTART;TZID=Australia/Brisbane:20240326T090000
DTEND;TZID=Australia/Brisbane:20240326T130000
DTSTAMP:20260426T013256
CREATED:20240313T002743Z
LAST-MODIFIED:20240313T003250Z
UID:8542-1711443600-1711458000@4rfm.com.au
SUMMARY:Remote Incident Training
DESCRIPTION:
URL:https://4rfm.com.au/event/8542/
LOCATION:Moranbah Worker’s Club\, 49-55 Mills Ave\, Moranbah\, QLD\, 4744\, Australia
END:VEVENT
BEGIN:VEVENT
DTSTART;TZID=Australia/Brisbane:20240326T100000
DTEND;TZID=Australia/Brisbane:20240326T113000
DTSTAMP:20260426T013256
CREATED:20240313T030117Z
LAST-MODIFIED:20240313T030117Z
UID:8586-1711447200-1711452600@4rfm.com.au
SUMMARY:Black Coffee Meet Up
DESCRIPTION:
URL:https://4rfm.com.au/event/black-coffee-meet-up/
LOCATION:La Crema Caffe
END:VEVENT
BEGIN:VEVENT
DTSTART;TZID=Australia/Brisbane:20240326T130000
DTEND;TZID=Australia/Brisbane:20240326T140000
DTSTAMP:20260426T013256
CREATED:20240313T005801Z
LAST-MODIFIED:20240313T005926Z
UID:8576-1711458000-1711461600@4rfm.com.au
SUMMARY:ESL Conversation Group
DESCRIPTION:
URL:https://4rfm.com.au/event/esl-conversation-group/
END:VEVENT
BEGIN:VEVENT
DTSTART;TZID=Australia/Brisbane:20240326T160000
DTEND;TZID=Australia/Brisbane:20240326T200000
DTSTAMP:20260426T013256
CREATED:20240313T002612Z
LAST-MODIFIED:20240313T003208Z
UID:8538-1711468800-1711483200@4rfm.com.au
SUMMARY:Remote Incident Training
DESCRIPTION:
URL:https://4rfm.com.au/event/8538/
LOCATION:Moranbah Worker’s Club\, 49-55 Mills Ave\, Moranbah\, QLD\, 4744\, Australia
END:VEVENT
BEGIN:VEVENT
DTSTART;TZID=Australia/Brisbane:20240326T193000
DTEND;TZID=Australia/Brisbane:20240326T193000
DTSTAMP:20260426T013256
CREATED:20240313T004852Z
LAST-MODIFIED:20240313T004852Z
UID:8565-1711481400-1711481400@4rfm.com.au
SUMMARY:Moranbah Darts social night
DESCRIPTION:
URL:https://4rfm.com.au/event/moranbah-darts-social-night/
LOCATION:Moranbah Arts Darts Hall
END:VEVENT
BEGIN:VEVENT
DTSTART;TZID=Australia/Brisbane:20240409T193000
DTEND;TZID=Australia/Brisbane:20240409T193000
DTSTAMP:20260426T013256
CREATED:20240313T005013Z
LAST-MODIFIED:20240313T011325Z
UID:8568-1712691000-1712691000@4rfm.com.au
SUMMARY:Moranbah Darts social night
DESCRIPTION:
URL:https://4rfm.com.au/event/moranbah-darts-social-night-2/
LOCATION:Moranbah Arts Darts Hall
END:VEVENT
END:VCALENDAR