BEGIN:VCALENDAR
VERSION:2.0
PRODID:-//4RFM Community Radio Station - ECPv6.15.20//NONSGML v1.0//EN
CALSCALE:GREGORIAN
METHOD:PUBLISH
X-WR-CALNAME:4RFM Community Radio Station
X-ORIGINAL-URL:https://4rfm.com.au
X-WR-CALDESC:Events for 4RFM Community Radio Station
REFRESH-INTERVAL;VALUE=DURATION:PT1H
X-Robots-Tag:noindex
X-PUBLISHED-TTL:PT1H
BEGIN:VTIMEZONE
TZID:Australia/Brisbane
BEGIN:STANDARD
TZOFFSETFROM:+1000
TZOFFSETTO:+1000
TZNAME:AEST
DTSTART:20230101T000000
END:STANDARD
END:VTIMEZONE
BEGIN:VEVENT
DTSTART;TZID=Australia/Brisbane:20240921T090000
DTEND;TZID=Australia/Brisbane:20240922T170000
DTSTAMP:20260421T191033
CREATED:20240913T024903Z
LAST-MODIFIED:20240913T024903Z
UID:8826-1726909200-1727024400@4rfm.com.au
SUMMARY:Love and Light Expo
DESCRIPTION:
URL:https://4rfm.com.au/event/love-and-light-expo/
END:VEVENT
BEGIN:VEVENT
DTSTART;TZID=Australia/Brisbane:20240921T120000
DTEND;TZID=Australia/Brisbane:20240921T170000
DTSTAMP:20260421T191033
CREATED:20240917T020043Z
LAST-MODIFIED:20240917T020043Z
UID:8844-1726920000-1726938000@4rfm.com.au
SUMMARY:Nebo Hoy and Cent Sale
DESCRIPTION:
URL:https://4rfm.com.au/event/nebo-hoy-and-cent-sale/
END:VEVENT
END:VCALENDAR