BEGIN:VCALENDAR
VERSION:2.0
PRODID:-//4RFM Community Radio Station - ECPv6.15.20//NONSGML v1.0//EN
CALSCALE:GREGORIAN
METHOD:PUBLISH
X-ORIGINAL-URL:https://4rfm.com.au
X-WR-CALDESC:Events for 4RFM Community Radio Station
REFRESH-INTERVAL;VALUE=DURATION:PT1H
X-Robots-Tag:noindex
X-PUBLISHED-TTL:PT1H
BEGIN:VTIMEZONE
TZID:Australia/Brisbane
BEGIN:STANDARD
TZOFFSETFROM:+1000
TZOFFSETTO:+1000
TZNAME:AEST
DTSTART:20240101T000000
END:STANDARD
END:VTIMEZONE
BEGIN:VEVENT
DTSTART;TZID=Australia/Brisbane:20250613T080000
DTEND;TZID=Australia/Brisbane:20250615T170000
DTSTAMP:20260420T171236
CREATED:20250608T232628Z
LAST-MODIFIED:20250608T232628Z
UID:9660-1749801600-1750006800@4rfm.com.au
SUMMARY:Bowl Club 50th Celebrations
DESCRIPTION:
URL:https://4rfm.com.au/event/bowl-club-50th-celebrations/
ATTACH;FMTTYPE=image/jpeg:https://4rfm.com.au/wp-content/uploads/2025/06/13-14-15-Bowls-Club.jpg
END:VEVENT
BEGIN:VEVENT
DTSTART;TZID=Australia/Brisbane:20250614T080000
DTEND;TZID=Australia/Brisbane:20250614T170000
DTSTAMP:20260420T171236
CREATED:20250602T234737Z
LAST-MODIFIED:20250602T234737Z
UID:9656-1749888000-1749920400@4rfm.com.au
SUMMARY:Free Domestic Waste Dump Days
DESCRIPTION:
URL:https://4rfm.com.au/event/free-domestic-waste-dump-days/
ATTACH;FMTTYPE=image/jpeg:https://4rfm.com.au/wp-content/uploads/2025/06/14-June-Isaac-Dump-Amnesty-day.jpg
END:VEVENT
BEGIN:VEVENT
DTSTART;TZID=Australia/Brisbane:20250614T080000
DTEND;TZID=Australia/Brisbane:20250614T170000
DTSTAMP:20260420T171236
CREATED:20250608T232842Z
LAST-MODIFIED:20250608T232842Z
UID:9664-1749888000-1749920400@4rfm.com.au
SUMMARY:Bulldogs Men's Mental Health Round
DESCRIPTION:
URL:https://4rfm.com.au/event/bulldogs-mens-mental-health-round/
ATTACH;FMTTYPE=image/jpeg:https://4rfm.com.au/wp-content/uploads/2025/06/14-June-Bulls-Home-Game.jpg
END:VEVENT
END:VCALENDAR