BEGIN:VCALENDAR
VERSION:2.0
PRODID:-//4RFM Community Radio Station - ECPv6.15.20//NONSGML v1.0//EN
CALSCALE:GREGORIAN
METHOD:PUBLISH
X-WR-CALNAME:4RFM Community Radio Station
X-ORIGINAL-URL:https://4rfm.com.au
X-WR-CALDESC:Events for 4RFM Community Radio Station
REFRESH-INTERVAL;VALUE=DURATION:PT1H
X-Robots-Tag:noindex
X-PUBLISHED-TTL:PT1H
BEGIN:VTIMEZONE
TZID:Australia/Brisbane
BEGIN:STANDARD
TZOFFSETFROM:+1000
TZOFFSETTO:+1000
TZNAME:AEST
DTSTART:20240101T000000
END:STANDARD
END:VTIMEZONE
BEGIN:VEVENT
DTSTART;TZID=Australia/Brisbane:20250619T080000
DTEND;TZID=Australia/Brisbane:20250619T170000
DTSTAMP:20260420T091409
CREATED:20250523T023228Z
LAST-MODIFIED:20250523T023228Z
UID:9605-1750320000-1750352400@4rfm.com.au
SUMMARY:Governance Training-DYSART
DESCRIPTION:Govern
URL:https://4rfm.com.au/event/governance-training-dysart/
ATTACH;FMTTYPE=image/jpeg:https://4rfm.com.au/wp-content/uploads/2025/05/4-June-Governance-Training-Moranbah.jpg
END:VEVENT
END:VCALENDAR