BEGIN:VCALENDAR
VERSION:2.0
PRODID:-//4RFM Community Radio Station - ECPv6.15.20//NONSGML v1.0//EN
CALSCALE:GREGORIAN
METHOD:PUBLISH
X-ORIGINAL-URL:https://4rfm.com.au
X-WR-CALDESC:Events for 4RFM Community Radio Station
REFRESH-INTERVAL;VALUE=DURATION:PT1H
X-Robots-Tag:noindex
X-PUBLISHED-TTL:PT1H
BEGIN:VTIMEZONE
TZID:Australia/Brisbane
BEGIN:STANDARD
TZOFFSETFROM:+1000
TZOFFSETTO:+1000
TZNAME:AEST
DTSTART:20230101T000000
END:STANDARD
END:VTIMEZONE
BEGIN:VEVENT
DTSTART;VALUE=DATE:20240901
DTEND;VALUE=DATE:20240902
DTSTAMP:20260421T173939
CREATED:20240826T022303Z
LAST-MODIFIED:20240826T022303Z
UID:8761-1725148800-1725235199@4rfm.com.au
SUMMARY:Miners' Finals
DESCRIPTION:
URL:https://4rfm.com.au/event/miners-finals/
END:VEVENT
BEGIN:VEVENT
DTSTART;VALUE=DATE:20240902
DTEND;VALUE=DATE:20240905
DTSTAMP:20260421T173939
CREATED:20240826T013938Z
LAST-MODIFIED:20240826T013938Z
UID:8692-1725235200-1725494399@4rfm.com.au
SUMMARY:Dysart Outback Futures
DESCRIPTION:
URL:https://4rfm.com.au/event/dysart-outback-futures/
END:VEVENT
BEGIN:VEVENT
DTSTART;TZID=Australia/Brisbane:20240904T174500
DTEND;TZID=Australia/Brisbane:20240904T200000
DTSTAMP:20260421T173939
CREATED:20240826T013657Z
LAST-MODIFIED:20240826T013657Z
UID:8686-1725471900-1725480000@4rfm.com.au
SUMMARY:Swimming Come & Try
DESCRIPTION:
URL:https://4rfm.com.au/event/swimming-come-try/
END:VEVENT
BEGIN:VEVENT
DTSTART;VALUE=DATE:20240906
DTEND;VALUE=DATE:20240907
DTSTAMP:20260421T173939
CREATED:20240826T014132Z
LAST-MODIFIED:20240826T014132Z
UID:8695-1725580800-1725667199@4rfm.com.au
SUMMARY:Regional Arts Development Fund Round 1 closure
DESCRIPTION:
URL:https://4rfm.com.au/event/regional-arts-development-fund-round-1-closure/
END:VEVENT
BEGIN:VEVENT
DTSTART;TZID=Australia/Brisbane:20240907T080000
DTEND;TZID=Australia/Brisbane:20240907T170000
DTSTAMP:20260421T173939
CREATED:20240826T022420Z
LAST-MODIFIED:20240826T022420Z
UID:8765-1725696000-1725728400@4rfm.com.au
SUMMARY:Miners' Finals
DESCRIPTION:
URL:https://4rfm.com.au/event/miners-finals-2/
END:VEVENT
BEGIN:VEVENT
DTSTART;TZID=Australia/Brisbane:20240907T090000
DTEND;TZID=Australia/Brisbane:20240907T160000
DTSTAMP:20260421T173939
CREATED:20240826T014542Z
LAST-MODIFIED:20240826T014542Z
UID:8705-1725699600-1725724800@4rfm.com.au
SUMMARY:ELAM Skate comp
DESCRIPTION:
URL:https://4rfm.com.au/event/elam-skate-comp/
END:VEVENT
BEGIN:VEVENT
DTSTART;TZID=Australia/Brisbane:20240907T093000
DTEND;TZID=Australia/Brisbane:20240907T120000
DTSTAMP:20260421T173939
CREATED:20240826T014416Z
LAST-MODIFIED:20240826T014416Z
UID:8701-1725701400-1725710400@4rfm.com.au
SUMMARY:Teddy Bear's Picnic
DESCRIPTION:
URL:https://4rfm.com.au/event/teddy-bears-picnic/
END:VEVENT
BEGIN:VEVENT
DTSTART;TZID=Australia/Brisbane:20240910T110000
DTEND;TZID=Australia/Brisbane:20240910T140000
DTSTAMP:20260421T173939
CREATED:20240903T041520Z
LAST-MODIFIED:20240903T041520Z
UID:8789-1725966000-1725976800@4rfm.com.au
SUMMARY:Selectability World Suicide Prevention Day
DESCRIPTION:
URL:https://4rfm.com.au/event/selectability-world-suicide-prevention-day/
END:VEVENT
BEGIN:VEVENT
DTSTART;TZID=Australia/Brisbane:20240911T174500
DTEND;TZID=Australia/Brisbane:20240911T200000
DTSTAMP:20260421T173939
CREATED:20240826T013810Z
LAST-MODIFIED:20240826T013810Z
UID:8689-1726076700-1726084800@4rfm.com.au
SUMMARY:Swimming Come & Try
DESCRIPTION:
URL:https://4rfm.com.au/event/swimming-come-try-2/
END:VEVENT
BEGIN:VEVENT
DTSTART;TZID=Australia/Brisbane:20240912T093000
DTEND;TZID=Australia/Brisbane:20240912T110000
DTSTAMP:20260421T173939
CREATED:20240826T014655Z
LAST-MODIFIED:20240826T014655Z
UID:8709-1726133400-1726138800@4rfm.com.au
SUMMARY:RUOK Day
DESCRIPTION:
URL:https://4rfm.com.au/event/ruok-day/
END:VEVENT
BEGIN:VEVENT
DTSTART;TZID=Australia/Brisbane:20240914T110000
DTEND;TZID=Australia/Brisbane:20240914T150000
DTSTAMP:20260421T173939
CREATED:20240903T024013Z
LAST-MODIFIED:20240903T024013Z
UID:8785-1726311600-1726326000@4rfm.com.au
SUMMARY:Clarke Creek Community Boost
DESCRIPTION:
URL:https://4rfm.com.au/event/clarke-creek-community-boost/
END:VEVENT
BEGIN:VEVENT
DTSTART;TZID=Australia/Brisbane:20240915T080000
DTEND;TZID=Australia/Brisbane:20240915T113000
DTSTAMP:20260421T173939
CREATED:20240826T014852Z
LAST-MODIFIED:20240826T014852Z
UID:8713-1726387200-1726399800@4rfm.com.au
SUMMARY:Nebo Bush Poets
DESCRIPTION:
URL:https://4rfm.com.au/event/nebo-bush-poets/
END:VEVENT
BEGIN:VEVENT
DTSTART;TZID=Australia/Brisbane:20240921T090000
DTEND;TZID=Australia/Brisbane:20240922T170000
DTSTAMP:20260421T173939
CREATED:20240913T024903Z
LAST-MODIFIED:20240913T024903Z
UID:8826-1726909200-1727024400@4rfm.com.au
SUMMARY:Love and Light Expo
DESCRIPTION:
URL:https://4rfm.com.au/event/love-and-light-expo/
END:VEVENT
BEGIN:VEVENT
DTSTART;TZID=Australia/Brisbane:20240921T120000
DTEND;TZID=Australia/Brisbane:20240921T170000
DTSTAMP:20260421T173939
CREATED:20240917T020043Z
LAST-MODIFIED:20240917T020043Z
UID:8844-1726920000-1726938000@4rfm.com.au
SUMMARY:Nebo Hoy and Cent Sale
DESCRIPTION:
URL:https://4rfm.com.au/event/nebo-hoy-and-cent-sale/
END:VEVENT
BEGIN:VEVENT
DTSTART;TZID=Australia/Brisbane:20240927T100000
DTEND;TZID=Australia/Brisbane:20240927T113000
DTSTAMP:20260421T173939
CREATED:20240912T020331Z
LAST-MODIFIED:20240912T020331Z
UID:8819-1727431200-1727436600@4rfm.com.au
SUMMARY:Police Remembrance Day
DESCRIPTION:
URL:https://4rfm.com.au/event/police-remembrance-day/
END:VEVENT
BEGIN:VEVENT
DTSTART;TZID=Australia/Brisbane:20240928T100000
DTEND;TZID=Australia/Brisbane:20240928T170000
DTSTAMP:20260421T173939
CREATED:20240901T232703Z
LAST-MODIFIED:20240901T232703Z
UID:8771-1727517600-1727542800@4rfm.com.au
SUMMARY:Pool Party
DESCRIPTION:
URL:https://4rfm.com.au/event/pool-party/
END:VEVENT
END:VCALENDAR